BEGIN:VCALENDAR
VERSION:2.0
PRODID:-//Wessex Advanced Motorists - ECPv6.15.20//NONSGML v1.0//EN
CALSCALE:GREGORIAN
METHOD:PUBLISH
X-WR-CALNAME:Wessex Advanced Motorists
X-ORIGINAL-URL:https://wessexam.uk
X-WR-CALDESC:Events for Wessex Advanced Motorists
REFRESH-INTERVAL;VALUE=DURATION:PT1H
X-Robots-Tag:noindex
X-PUBLISHED-TTL:PT1H
BEGIN:VTIMEZONE
TZID:Europe/London
BEGIN:DAYLIGHT
TZOFFSETFROM:+0000
TZOFFSETTO:+0100
TZNAME:BST
DTSTART:20250330T010000
END:DAYLIGHT
BEGIN:STANDARD
TZOFFSETFROM:+0100
TZOFFSETTO:+0000
TZNAME:GMT
DTSTART:20251026T010000
END:STANDARD
BEGIN:DAYLIGHT
TZOFFSETFROM:+0000
TZOFFSETTO:+0100
TZNAME:BST
DTSTART:20260329T010000
END:DAYLIGHT
BEGIN:STANDARD
TZOFFSETFROM:+0100
TZOFFSETTO:+0000
TZNAME:GMT
DTSTART:20261025T010000
END:STANDARD
BEGIN:DAYLIGHT
TZOFFSETFROM:+0000
TZOFFSETTO:+0100
TZNAME:BST
DTSTART:20270328T010000
END:DAYLIGHT
BEGIN:STANDARD
TZOFFSETFROM:+0100
TZOFFSETTO:+0000
TZNAME:GMT
DTSTART:20271031T010000
END:STANDARD
END:VTIMEZONE
BEGIN:VEVENT
DTSTART;TZID=Europe/London:20260121T193000
DTEND;TZID=Europe/London:20260121T213000
DTSTAMP:20260420T131350
CREATED:20250709T215408Z
LAST-MODIFIED:20251103T113236Z
UID:1516-1769023800-1769031000@wessexam.uk
SUMMARY:Members' Evening - Katharine Brunsch
DESCRIPTION:Following her well-received talk “Safe and happy travels with your dog” (reported in the news section)\, Katharine Brunsch of Tellington TTouch Canine Support is returning for another session exploring the 9 Elements of Tellington TTouch with examples of how we can make small changes that positively impact our dog’s physical\, mental and emotional well-being. When applied in daily life\, the 9 Elements transform ordinary interactions into extraordinary opportunities for connection. \nThis versatility enables us to support dogs in various situations and adapt to the uniqueness of each individual dog (and person). If you have other animals\, such as cats\, rabbits\, or even horses\, we will also discuss how the 9 Elements can help build a stronger relationship of trust and understanding. \n.
URL:https://wessexam.uk/event/members-evening-katharine-brunsch/
LOCATION:Lady Alice Memorial Hall\, Village Hall\, Hatch Beauchamp\, Somerset\, TA3 6SG\, United Kingdom
END:VEVENT
END:VCALENDAR