BEGIN:VCALENDAR
VERSION:2.0
PRODID:-//Wessex Advanced Motorists - ECPv6.15.20//NONSGML v1.0//EN
CALSCALE:GREGORIAN
METHOD:PUBLISH
X-ORIGINAL-URL:https://wessexam.uk
X-WR-CALDESC:Events for Wessex Advanced Motorists
REFRESH-INTERVAL;VALUE=DURATION:PT1H
X-Robots-Tag:noindex
X-PUBLISHED-TTL:PT1H
BEGIN:VTIMEZONE
TZID:Europe/London
BEGIN:DAYLIGHT
TZOFFSETFROM:+0000
TZOFFSETTO:+0100
TZNAME:BST
DTSTART:20250330T010000
END:DAYLIGHT
BEGIN:STANDARD
TZOFFSETFROM:+0100
TZOFFSETTO:+0000
TZNAME:GMT
DTSTART:20251026T010000
END:STANDARD
BEGIN:DAYLIGHT
TZOFFSETFROM:+0000
TZOFFSETTO:+0100
TZNAME:BST
DTSTART:20260329T010000
END:DAYLIGHT
BEGIN:STANDARD
TZOFFSETFROM:+0100
TZOFFSETTO:+0000
TZNAME:GMT
DTSTART:20261025T010000
END:STANDARD
BEGIN:DAYLIGHT
TZOFFSETFROM:+0000
TZOFFSETTO:+0100
TZNAME:BST
DTSTART:20270328T010000
END:DAYLIGHT
BEGIN:STANDARD
TZOFFSETFROM:+0100
TZOFFSETTO:+0000
TZNAME:GMT
DTSTART:20271031T010000
END:STANDARD
END:VTIMEZONE
BEGIN:VEVENT
DTSTART;TZID=Europe/London:20260617T193000
DTEND;TZID=Europe/London:20260617T193000
DTSTAMP:20260420T132333
CREATED:20250717T211926Z
LAST-MODIFIED:20251130T103818Z
UID:1538-1781724600-1781724600@wessexam.uk
SUMMARY:"Show and Tell" Evening
DESCRIPTION:In June\, we will be holding our “Show and Tell” evening\, which has become an annual event. It’s an evening to come along and show your car\, old or new\, and tell others about it for a minute or two\, as if it were the preamble to an advanced driving test. \nThe Sir John Timpson Cup is awarded for the most popular introduction and best-presented car.
URL:https://wessexam.uk/event/__trashed/
LOCATION:Lady Alice Memorial Hall\, Village Hall\, Hatch Beauchamp\, Somerset\, TA3 6SG\, United Kingdom
END:VEVENT
END:VCALENDAR