BEGIN:VCALENDAR
VERSION:2.0
PRODID:-//Wessex Advanced Motorists - ECPv6.15.20//NONSGML v1.0//EN
CALSCALE:GREGORIAN
METHOD:PUBLISH
X-ORIGINAL-URL:https://wessexam.uk
X-WR-CALDESC:Events for Wessex Advanced Motorists
REFRESH-INTERVAL;VALUE=DURATION:PT1H
X-Robots-Tag:noindex
X-PUBLISHED-TTL:PT1H
BEGIN:VTIMEZONE
TZID:Europe/London
BEGIN:DAYLIGHT
TZOFFSETFROM:+0000
TZOFFSETTO:+0100
TZNAME:BST
DTSTART:20250330T010000
END:DAYLIGHT
BEGIN:STANDARD
TZOFFSETFROM:+0100
TZOFFSETTO:+0000
TZNAME:GMT
DTSTART:20251026T010000
END:STANDARD
BEGIN:DAYLIGHT
TZOFFSETFROM:+0000
TZOFFSETTO:+0100
TZNAME:BST
DTSTART:20260329T010000
END:DAYLIGHT
BEGIN:STANDARD
TZOFFSETFROM:+0100
TZOFFSETTO:+0000
TZNAME:GMT
DTSTART:20261025T010000
END:STANDARD
BEGIN:DAYLIGHT
TZOFFSETFROM:+0000
TZOFFSETTO:+0100
TZNAME:BST
DTSTART:20270328T010000
END:DAYLIGHT
BEGIN:STANDARD
TZOFFSETFROM:+0100
TZOFFSETTO:+0000
TZNAME:GMT
DTSTART:20271031T010000
END:STANDARD
END:VTIMEZONE
BEGIN:VEVENT
DTSTART;TZID=Europe/London:20261021T193000
DTEND;TZID=Europe/London:20261021T213000
DTSTAMP:20260422T120433
CREATED:20250528T160235Z
LAST-MODIFIED:20260217T135233Z
UID:828-1792611000-1792618200@wessexam.uk
SUMMARY:Member's Evening - TBA
DESCRIPTION:
URL:https://wessexam.uk/event/members-evening-travels-with-joe/
LOCATION:Lady Alice Memorial Hall\, Village Hall\, Hatch Beauchamp\, Somerset\, TA3 6SG\, United Kingdom
END:VEVENT
END:VCALENDAR